Workbook

Sheet Riskien arviointi
A1: Riskien arviointi – työn vaarat
A2: Ilmainen pohja · kemiqr.fi/riskien-arviointi-pohja · Valitse todennäköisyys ja vakavuus, riskitaso tulee matriisista itse.
A4: Työmaa
A5: Työnumero
A6: Työvaihe / työtehtävä
A7: Työn tekijä (yritys)
A8: Päivä
A9: Arvioijat (nimi, yritys, rooli)
A11: Nro | B11: Vaara / haittatekijä | C11: Mahdollinen seuraus | D11: Todennäköisyys | E11: Vakavuus | F11: Riskitaso | G11: Toimenpiteet | H11: Vastuu | I11: Valmis
A12: 1 | F12: =IF(OR(D12="",E12=""),"",INDEX(Riskimatriisi!$B$4:$D$6,MATCH(D12,Riskimatriisi!$A$4:$A$6,0),MATCH(E12,Riskimatriisi!$B$3:$D$3,0)))
A13: 2 | F13: =IF(OR(D13="",E13=""),"",INDEX(Riskimatriisi!$B$4:$D$6,MATCH(D13,Riskimatriisi!$A$4:$A$6,0),MATCH(E13,Riskimatriisi!$B$3:$D$3,0)))
A14: 3 | F14: =IF(OR(D14="",E14=""),"",INDEX(Riskimatriisi!$B$4:$D$6,MATCH(D14,Riskimatriisi!$A$4:$A$6,0),MATCH(E14,Riskimatriisi!$B$3:$D$3,0)))
A15: 4 | F15: =IF(OR(D15="",E15=""),"",INDEX(Riskimatriisi!$B$4:$D$6,MATCH(D15,Riskimatriisi!$A$4:$A$6,0),MATCH(E15,Riskimatriisi!$B$3:$D$3,0)))
A16: 5 | F16: =IF(OR(D16="",E16=""),"",INDEX(Riskimatriisi!$B$4:$D$6,MATCH(D16,Riskimatriisi!$A$4:$A$6,0),MATCH(E16,Riskimatriisi!$B$3:$D$3,0)))
A17: 6 | F17: =IF(OR(D17="",E17=""),"",INDEX(Riskimatriisi!$B$4:$D$6,MATCH(D17,Riskimatriisi!$A$4:$A$6,0),MATCH(E17,Riskimatriisi!$B$3:$D$3,0)))
A18: 7 | F18: =IF(OR(D18="",E18=""),"",INDEX(Riskimatriisi!$B$4:$D$6,MATCH(D18,Riskimatriisi!$A$4:$A$6,0),MATCH(E18,Riskimatriisi!$B$3:$D$3,0)))
A19: 8 | F19: =IF(OR(D19="",E19=""),"",INDEX(Riskimatriisi!$B$4:$D$6,MATCH(D19,Riskimatriisi!$A$4:$A$6,0),MATCH(E19,Riskimatriisi!$B$3:$D$3,0)))
A20: 9 | F20: =IF(OR(D20="",E20=""),"",INDEX(Riskimatriisi!$B$4:$D$6,MATCH(D20,Riskimatriisi!$A$4:$A$6,0),MATCH(E20,Riskimatriisi!$B$3:$D$3,0)))
A21: 10 | F21: =IF(OR(D21="",E21=""),"",INDEX(Riskimatriisi!$B$4:$D$6,MATCH(D21,Riskimatriisi!$A$4:$A$6,0),MATCH(E21,Riskimatriisi!$B$3:$D$3,0)))
A22: 11 | F22: =IF(OR(D22="",E22=""),"",INDEX(Riskimatriisi!$B$4:$D$6,MATCH(D22,Riskimatriisi!$A$4:$A$6,0),MATCH(E22,Riskimatriisi!$B$3:$D$3,0)))
A23: 12 | F23: =IF(OR(D23="",E23=""),"",INDEX(Riskimatriisi!$B$4:$D$6,MATCH(D23,Riskimatriisi!$A$4:$A$6,0),MATCH(E23,Riskimatriisi!$B$3:$D$3,0)))
... A71: 60 | F71: =IF(OR(D71="",E71=""),"",INDEX(Riskimatriisi!$B$4:$D$6,MATCH(D71,Riskimatriisi!$A$4:$A$6,0),MATCH(E71,Riskimatriisi!$B$3:$D$3,0)))
A73: Yhteenveto
A74: Vaaditut henkilönsuojaimet
A75: Perehdytys ja tiedottaminen
A76: Päivitetään viimeistään
A77: Huomiot
A78: Laatija (nimi ja allekirjoitus)
A79: Hyväksyjä, työnjohto (nimi ja allekirjoitus)

Sheet Riskimatriisi
A1: Riskimatriisi
A3: Todennäköisyys / vakavuus | B3: Lievä | C3: Haitallinen | D3: Vakava
A4: Pieni | B4: Vähäinen | C4: Kohtalainen | D4: Merkittävä
A5: Mahdollinen | B5: Kohtalainen | C5: Kohtalainen | D5: Merkittävä
A6: Todennäköinen | B6: Merkittävä | C6: Merkittävä | D6: Sietämätön
A8: Merkittävä ja sietämätön riski poistetaan tai sitä pienennetään ennen työn aloitusta.

Sheet Ohje ja laki
A1: Riskien arviointi: laki ja lähteet
A3: Työturvallisuuslaki (738/2002) 10 §: työnantajan on riittävän järjestelmällisesti selvitettävä ja tunnistettava työstä aiheutuvat haitta- ja vaaratekijät sekä, jos niitä ei voida poistaa, arvioitava niiden merkitys työntekijöiden turvallisuudelle ja terveydelle. Työnantajalla tulee olla hallussaan selvitys ja arviointi, ja se pidetään ajan tasalla.
A4: VNa rakennustyön turvallisuudesta (205/2009) 10 §: päätoteuttajan on tehtävä ennen rakennustöiden aloittamista kirjallisesti työturvallisuutta koskevat suunnitelmat. VNa 715/2001 6 §: kemiallisten tekijöiden riskien arviointi esitetään kirjallisessa muodossa.
A5: Laki ei määrää lomaketta eikä riskimatriisia. Tämän pohjan matriisi on sama kuin KemiQR:n riskien arviointi -lomakkeessa.
A6: Lähteet: https://www.finlex.fi/fi/lainsaadanto/2002/738, https://www.finlex.fi/fi/lainsaadanto/2009/205 ja https://www.finlex.fi/fi/lainsaadanto/2001/715 (tarkistettu 30.10.2026).
A7: Sama riskien arviointi puhelimella ja yrityksen otsikolla tulosteeksi: kemiqr.fi/tyomaan-lomakkeet
